BEGIN:VCALENDAR
VERSION:2.0
PRODID:icalendar-ruby
CALSCALE:GREGORIAN
METHOD:PUBLISH
BEGIN:VEVENT
DTSTAMP:20260420T024354Z
UID:177-199353@eastplainsunitedchurch.com
DTSTART:20260509T230000Z
DTEND:20260510T010000Z
CLASS:PUBLIC
CREATED:20260419T081729
DESCRIPTION:Hi folks:  Just a reminder that we gather at East Plains on Sa
 t. May 9\, 7:00/7:30 p.m.  Tom Miceli will offer a power point presentati
 on\, updating basic information on climate change.  We didn't commit to a
  book this time\, but we can all come with whatever new information or ins
 ights we may have to contribute to the discussion.    \n    I l
 ook forward with pleasure to seeing you all.      Harold.  
LAST-MODIFIED:20260419T081729
LOCATION:Campbell Room EPUC
SUMMARY:Climate Change Reading Group.
URL;VALUE=URI:https://www.eastplainsunitedchurch.com/events/climate-change-
 reading-group--177/2026-05-09
END:VEVENT
END:VCALENDAR
