BEGIN:VCALENDAR
VERSION:2.0
PRODID:icalendar-ruby
CALSCALE:GREGORIAN
METHOD:PUBLISH
BEGIN:VEVENT
DTSTAMP:20260425T161142Z
UID:179-200512@eastplainsunitedchurch.com
DTSTART:20260512T230000Z
DTEND:20260513T010000Z
CLASS:PUBLIC
CREATED:20260424T163132
DESCRIPTION:The AffirmTeam will be hosting an educational event on Tuesday\
 , May 12\, 2026 beginning at 7\np.m. The guest speaker will be Leanne Ranc
 ourt\, a representative of PFLAG. Leanne’s topic will\nbe “Learning Ab
 out 2SLGBTQIA+community\, Inclusivity\, and Allyship.” Please mark your\
 ncalendar and plan to attend. Please invite family\, friends\, neighbours 
 to come as well.
LAST-MODIFIED:20260424T163132
LOCATION:East Plains UC Campbell Room.
SUMMARY:Affirm Team Guest Speaker Event.
URL;VALUE=URI:https://www.eastplainsunitedchurch.com/events/affirm-team-gue
 st-speaker-event--179/2026-05-12
ATTACH;FILENAME=Diversity.jpg;FMTTYPE=image/jpeg:https://dq5pwpg1q8ru0.clou
 dfront.net/2026/04/24/20/29/49/0e107d97-8bd5-4d4d-802b-3c3e5d06d3e4/Divers
 ity.jpg
END:VEVENT
END:VCALENDAR
